BEGIN:VCALENDAR
VERSION:2.0
PRODID:-//Burgkeller-Bar Burghausen - ECPv6.15.15//NONSGML v1.0//EN
CALSCALE:GREGORIAN
METHOD:PUBLISH
X-ORIGINAL-URL:https://www.burgkeller-bar.de
X-WR-CALDESC:Veranstaltungen für Burgkeller-Bar Burghausen
REFRESH-INTERVAL;VALUE=DURATION:PT1H
X-Robots-Tag:noindex
X-PUBLISHED-TTL:PT1H
BEGIN:VTIMEZONE
TZID:Europe/Berlin
BEGIN:DAYLIGHT
TZOFFSETFROM:+0100
TZOFFSETTO:+0200
TZNAME:CEST
DTSTART:20230326T010000
END:DAYLIGHT
BEGIN:STANDARD
TZOFFSETFROM:+0200
TZOFFSETTO:+0100
TZNAME:CET
DTSTART:20231029T010000
END:STANDARD
BEGIN:DAYLIGHT
TZOFFSETFROM:+0100
TZOFFSETTO:+0200
TZNAME:CEST
DTSTART:20240331T010000
END:DAYLIGHT
BEGIN:STANDARD
TZOFFSETFROM:+0200
TZOFFSETTO:+0100
TZNAME:CET
DTSTART:20241027T010000
END:STANDARD
BEGIN:DAYLIGHT
TZOFFSETFROM:+0100
TZOFFSETTO:+0200
TZNAME:CEST
DTSTART:20250330T010000
END:DAYLIGHT
BEGIN:STANDARD
TZOFFSETFROM:+0200
TZOFFSETTO:+0100
TZNAME:CET
DTSTART:20251026T010000
END:STANDARD
END:VTIMEZONE
BEGIN:VEVENT
DTSTART;VALUE=DATE:20241004
DTEND;VALUE=DATE:20241007
DTSTAMP:20260425T205513
CREATED:20240924T165745Z
LAST-MODIFIED:20240924T175804Z
UID:10000028-1728000000-1728259199@www.burgkeller-bar.de
SUMMARY:Burghauser Vinyl Weekender
DESCRIPTION:Vinyl-Fans aufgepasst! Das Altöttinger Plattenzimmer e.V. kommt nach Burghausen! Gemeinsam mit dem Café Altstadt und uns\, der Burgkeller-Bar\, feiern wir den *Vinyl Weekender* mit einem spannenden Programm rund um Musik und Vinyl. Das Herzstück des Wochenendes ist der *Plattenzimmer Pop-Up Store* im Café Altstadt – stöbert durch eure Lieblingsplatten und entdeckt neue Schätze. Doch das ist längst nicht alles! Freut Euch auf: \n\nFreitag\, 04.10.2024 \n\n16 – 22 Uhr/ Café Altstadt: BGMSTA DJ‘s Schneider\, Stranzinger und Angstl legen ihre Lieblingsplatten auf.\nAb 22 Uhr/ Burgkeller-Bar „After-Show-Party“ & Auftakt „DJ-Abend“ all Vinyl – mit original DJ Peter K einen Abend im Birdland Burghausen (70er)\n\n  \nSamstag\, 05.10.2024 \n\n16 – 20 Uhr/ Café Altstadt: mit den besten Beats der Plattenzimmer DJ‘s (World/ Disco/ Cumbia/ Psych)\n20 – 22 Uhr/ Café Altstadt: Highlight des Wochenendes – *Marcoca* live! (Alternative/ Indie)\n22 – 02 Uhr/ Burgkeller-Bar „After-Show-Party“: mit den besten Beats der Plattenzimmer DJ‘s (World/ Disco/ Cumbia/ Psych)\n\n  \nSonntag\, 06.10.2024 \n\n11-17Uhr/ Café Altstadt: all Vinyl – Soul Frühshoppen mit Boppin&Stompin DJ Sir 2000 (Soul)\n\n  \nPlattenzimmer Pop-Up Store/ Café Altstadt: Stöbert ein ganzes Wochenende lang nach euren Lieblingsplatten in Burghausen! \n  \nDas Plattenzimmer\, das Café Altstadt und die Burgkeller-Bar freuen sich auf euch! \n 
URL:https://www.burgkeller-bar.de/event/1-burghauser-vinyl-wochenende/
LOCATION:Burgkellerbar
ATTACH;FMTTYPE=image/jpeg:https://www.burgkeller-bar.de/wp-content/uploads/2024/09/photo-output-2.jpeg
END:VEVENT
BEGIN:VEVENT
DTSTART;TZID=Europe/Berlin:20241012T200000
DTEND;TZID=Europe/Berlin:20241012T235900
DTSTAMP:20260425T205513
CREATED:20240626T190638Z
LAST-MODIFIED:20241008T102203Z
UID:10000008-1728763200-1728777540@www.burgkeller-bar.de
SUMMARY:LIVE: Coffee Grinders (Acoustic-Blues)
DESCRIPTION:Chicago-Feeling in Burghausen? Das gibt’s in der Burgkeller-Bar! Die Coffee Grinders – Joff Basset (Gitarre und Gesang)\, Jim Pflug (Bass)\, Günther Flossmann (Piano und Gesang) und Karl Stolz (Schlagzeug) – bringen echte Blues-Club-Atmosphäre auf die Bühne unseres Konzertkellers. \nFreut euch auf eine mitreißende Mischung aus Chicago-Blues und den rauen Klängen des Mississippi-Deltas. Von Robert Johnson bis zu den „Königen des Blues“ Albert\, BB und Freddy King – hier ist für jeden Blues-Liebhaber etwas dabei. Kommt vorbei und lasst euch von den Coffee Grinders in den Blues entführen! \nEinlass: ab 20 Uhr\nEintritt: Hutspenden erwünscht
URL:https://www.burgkeller-bar.de/event/live-coffee-grinders/
LOCATION:Burgkellerbar
ATTACH;FMTTYPE=image/png:https://www.burgkeller-bar.de/wp-content/uploads/2024/06/photo-output.png
ORGANIZER;CN="Burgkeller-Bar UG (haftungsbeschr%C3%A4nkt)":MAILTO:info@burgkeller-bar.de
END:VEVENT
BEGIN:VEVENT
DTSTART;TZID=Europe/Berlin:20241018T210000
DTEND;TZID=Europe/Berlin:20241018T235900
DTSTAMP:20260425T205513
CREATED:20240915T082350Z
LAST-MODIFIED:20240928T083656Z
UID:10000027-1729285200-1729295940@www.burgkeller-bar.de
SUMMARY:PARTY: DJ Steve (Rockklassiker 60er bis 90er)
DESCRIPTION:DJ Steve nimmt euch mit auf eine musikalische Zeitreise durch die Rockgeschichte – von den 60er bis zu den 90er Jahren! Mit einer Mischung aus Rock\, Blues und Pop wird er unsere Glasplatten zum Beben bringen. Rock ’n‘ Roll can never die! \nWir freuen uns\, wieder ein echtes Urgestein der DJ-Szene im Keller begrüßen zu dürfen und gemeinsam mit allen Jungen und Junggebliebenen die wilden Zeiten aufleben zu lassen. Seid dabei und lasst euch von DJ Steve in die Welt des Rock entführen! \nEinlass: ab 20 Uhr\nEintritt: Hutspende erwünscht
URL:https://www.burgkeller-bar.de/event/party-dj-steve-60er-70er-rock-blues-folk/
LOCATION:Burgkellerbar
ATTACH;FMTTYPE=image/jpeg:https://www.burgkeller-bar.de/wp-content/uploads/2024/09/photo-output-1-scaled.jpeg
ORGANIZER;CN="Burgkeller-Bar UG (haftungsbeschr%C3%A4nkt)":MAILTO:info@burgkeller-bar.de
END:VEVENT
BEGIN:VEVENT
DTSTART;TZID=Europe/Berlin:20241019T200000
DTEND;TZID=Europe/Berlin:20241019T235900
DTSTAMP:20260425T205513
CREATED:20240626T191003Z
LAST-MODIFIED:20241007T134330Z
UID:10000009-1729368000-1729382340@www.burgkeller-bar.de
SUMMARY:LESUNG: Emil Bach
DESCRIPTION:Emil Bach bringt seine einzigartigen „Schönen Lieder\, vol. 3“ in unsere Burgkeller-Bar nach Burghausen! Der Passauer Liedermacher und Schriftsteller\, bekannt für seine klugen Texte und humorvollen Klavierbegleitungen\, begeistert mit Geschichten über schwule Pinguine\, Pizzalieferungen nach Atlantis und Nudeln mit Ketchup. \nMit sprachlich raffinierten Texten bietet Emil Bach eine besondere Mischung aus Nachdenklichkeit und klugem Humor\, die eine klare Festlegung auf ein Grundgefühl manchmal gar nicht so leicht macht. Neben seinen Liedern wird er auch ausgewählte Texte lesen. Wer intelligente Unterhaltung mit einer Prise absurder Note schätzt\, ist hier genau richtig. \nEinlass: ab 20 Uhr\nEintritt: Hutspenden erwünscht
URL:https://www.burgkeller-bar.de/event/live-emil-bach/
LOCATION:Burgkellerbar
ATTACH;FMTTYPE=image/jpeg:https://www.burgkeller-bar.de/wp-content/uploads/2024/06/photo-output-4-scaled.jpeg
ORGANIZER;CN="Burgkeller-Bar UG (haftungsbeschr%C3%A4nkt)":MAILTO:info@burgkeller-bar.de
END:VEVENT
BEGIN:VEVENT
DTSTART;TZID=Europe/Berlin:20241025T200000
DTEND;TZID=Europe/Berlin:20241025T235900
DTSTAMP:20260425T205513
CREATED:20240718T103957Z
LAST-MODIFIED:20241015T054547Z
UID:10000021-1729886400-1729900740@www.burgkeller-bar.de
SUMMARY:LIVE: Blues Transfusion (Blues-Rock)
DESCRIPTION:Blues Transfusion verwandelt die Burgkeller-Bar in Burghausen in eine Bühne für modernen Blues- Rock der Extraklasse. Die Leidenschaft dieser Vollblutmusiker für den modernen Blues führt Blues Transfusion in einer gemeinsamen Ader zusammen. Seit nunmehr 16 Jahren bereichern Jürgen Heilmaier (Gitarre und Gesang)\, Fredi Altmannshofer (Schlagzeug) und Erwin Krastenbergs (Bass und Gesang) als Blues Transfusion die Musikszene. Im Gegensatz zu vielen Bands\, die bekannte Klassiker neu interpretieren\, gehen die drei Musiker ihren eigenen Weg und präsentieren ihre eigenen\, kraftvollen Songs. Mit Nummern wie „Southbound Ride“\, „Turning Petrol into Noise“ und „In the \nShed“ beweisen sie\, wie sie Blues und Rock auf ihre ganz persönliche Art und Weise leben und neu interpretieren. Lasst uns gemeinsam bei einem unvergesslichen Abend voller Blues Rock von den 70ern bis heute unseren Konzertkeller rocken! \nEinlass: ab 20.00 Uhr\nBeginn: ab 21.00 Uhr\nEintritt: Hutspenden erwünscht
URL:https://www.burgkeller-bar.de/event/live-blues-transfusion/
LOCATION:Burgkellerbar
ATTACH;FMTTYPE=image/jpeg:https://www.burgkeller-bar.de/wp-content/uploads/2024/07/photo-output-scaled.jpeg
ORGANIZER;CN="Burgkeller-Bar UG (haftungsbeschr%C3%A4nkt)":MAILTO:info@burgkeller-bar.de
END:VEVENT
BEGIN:VEVENT
DTSTART;TZID=Europe/Berlin:20241026T200000
DTEND;TZID=Europe/Berlin:20241026T235900
DTSTAMP:20260425T205513
CREATED:20240626T191200Z
LAST-MODIFIED:20241023T103921Z
UID:10000010-1729972800-1729987140@www.burgkeller-bar.de
SUMMARY:LIVE: Cassidy & Bluad (Punk-Rock)
DESCRIPTION:Eröffnet wird der Abend von den Newcomern „Bluad“. Ben\, Marci\, Bella und Dave aus Rosenheim geben Suicidal Death Metal einen leichten Anstrich Punk und jede Menge Wut! Laut\, hart und druckvoll singen oder schreien sie sich dabei Selbsterlebtes von der Seele. Ihr Debüt-Album „The recovery of mental hell“ kann man sich für einen schmalen Taler holen unter:\nhttps://bluad.bandcamp.com/album/the-recovery-of-mental-hell \nAus den Trümmern mehrerer Rosenheimer Allstar-Bands wie Neongelb\, BambiDexter und EggMaroc im Jahr 2007 entstanden\, fusioniert CASSIDY die Stile Posthardcore\, Velvet Underground und frühen NY-Punk. Marcy am Schlagzeug\, Bella am Bass und Matthew an der Gitarre präsentieren ein wunderbares Live-Set\, das man nicht verpassen sollte. \nEinlass: ab 20.00 Uhr\nBeginn: ab 21.00 Uhr\nEintritt: Hutspenden erwünscht
URL:https://www.burgkeller-bar.de/event/live-cassidy-bluad/
LOCATION:Burgkellerbar
ATTACH;FMTTYPE=image/jpeg:https://www.burgkeller-bar.de/wp-content/uploads/2024/06/photo-output-5.jpeg
ORGANIZER;CN="Burgkeller-Bar UG (haftungsbeschr%C3%A4nkt)":MAILTO:info@burgkeller-bar.de
END:VEVENT
BEGIN:VEVENT
DTSTART;TZID=Europe/Berlin:20241031T200000
DTEND;TZID=Europe/Berlin:20241031T235900
DTSTAMP:20260425T205513
CREATED:20240915T081017Z
LAST-MODIFIED:20241021T053133Z
UID:10000025-1730404800-1730419140@www.burgkeller-bar.de
SUMMARY:PARTY: Halloween – Burgkeller in verrückter Tradition!
DESCRIPTION:Seid bereit für eine schaurig-schöne Nacht voller Überraschungen! Am 31. Oktober verwandelt sich der Burgkeller in ein Spukhaus der besonderen Art – in verrückter Tradition\, ganz nach dem Motto der skurrilen Addams Family. \nFreut euch auf gruselige Beats von DJ Graf Wangula\, schaurige Deko und jede Menge Spuk-Spaß. Komm vorbei in deinem gruseligsten Halloween-Kostüm und werde Teil der schrecklich netten Burgkeller Family! \n\nEinlass: ab 20.00 UhrBeginn: ab 21.00 Uhr
URL:https://www.burgkeller-bar.de/event/party-halloween/
LOCATION:Burgkellerbar
ATTACH;FMTTYPE=image/jpeg:https://www.burgkeller-bar.de/wp-content/uploads/2024/09/photo-output-3.jpeg
END:VEVENT
END:VCALENDAR