BEGIN:VCALENDAR
VERSION:2.0
PRODID:-//Burgkeller-Bar Burghausen - ECPv6.15.15//NONSGML v1.0//EN
CALSCALE:GREGORIAN
METHOD:PUBLISH
X-WR-CALNAME:Burgkeller-Bar Burghausen
X-ORIGINAL-URL:https://www.burgkeller-bar.de
X-WR-CALDESC:Veranstaltungen für Burgkeller-Bar Burghausen
REFRESH-INTERVAL;VALUE=DURATION:PT1H
X-Robots-Tag:noindex
X-PUBLISHED-TTL:PT1H
BEGIN:VTIMEZONE
TZID:Europe/Berlin
BEGIN:DAYLIGHT
TZOFFSETFROM:+0100
TZOFFSETTO:+0200
TZNAME:CEST
DTSTART:20230326T010000
END:DAYLIGHT
BEGIN:STANDARD
TZOFFSETFROM:+0200
TZOFFSETTO:+0100
TZNAME:CET
DTSTART:20231029T010000
END:STANDARD
BEGIN:DAYLIGHT
TZOFFSETFROM:+0100
TZOFFSETTO:+0200
TZNAME:CEST
DTSTART:20240331T010000
END:DAYLIGHT
BEGIN:STANDARD
TZOFFSETFROM:+0200
TZOFFSETTO:+0100
TZNAME:CET
DTSTART:20241027T010000
END:STANDARD
BEGIN:DAYLIGHT
TZOFFSETFROM:+0100
TZOFFSETTO:+0200
TZNAME:CEST
DTSTART:20250330T010000
END:DAYLIGHT
BEGIN:STANDARD
TZOFFSETFROM:+0200
TZOFFSETTO:+0100
TZNAME:CET
DTSTART:20251026T010000
END:STANDARD
END:VTIMEZONE
BEGIN:VTIMEZONE
TZID:UTC
BEGIN:STANDARD
TZOFFSETFROM:+0000
TZOFFSETTO:+0000
TZNAME:UTC
DTSTART:20230101T000000
END:STANDARD
END:VTIMEZONE
BEGIN:VEVENT
DTSTART;TZID=Europe/Berlin:20240913T200000
DTEND;TZID=Europe/Berlin:20240913T200000
DTSTAMP:20260425T174214
CREATED:20240910T204106Z
LAST-MODIFIED:20240912T172720Z
UID:10000023-1726257600-1726257600@www.burgkeller-bar.de
SUMMARY:LIVE „Nobutthefrog“ (Indie-Folk)
DESCRIPTION:Zu unserem ersten Konzert nach der Sommerpause begrüßen wir das zauberhafte Indie-Folk-Duo **Nobutthefrog** mit ihrem Programm „Don’t Stop Loving The World“. Mit Geige\, Gitarre und zweistimmigem Gesang schaffen sie einen Raum für Verbundenheit und Inspiration. Ihre Musik holt euch ins Hier und Jetzt und gibt Impulse\, das Leben aktiv zu gestalten.\nHört gleich mal rein: Nobutthefrog – Don´t Stop Loving The World | Official Video\n\nKommt vorbei und genießt Live-Musik im Burgkeller – bei gutem Wetter im Biergarten\, ansonsten drinnen. So oder so wird es ein unvergesslicher Abend!\n\n\nBeginn: ab ca. 20.00 Uhr\nEintritt: Hutspenden erwünscht
URL:https://www.burgkeller-bar.de/event/live-nobutthefrog-indie-folk/
LOCATION:Burgkellerbar
ATTACH;FMTTYPE=image/jpeg:https://www.burgkeller-bar.de/wp-content/uploads/2024/09/IMG_8009.jpeg
ORGANIZER;CN="Burgkeller-Bar UG (haftungsbeschr%C3%A4nkt)":MAILTO:info@burgkeller-bar.de
END:VEVENT
BEGIN:VEVENT
DTSTART;TZID=UTC:20240927T200000
DTEND;TZID=UTC:20240927T235900
DTSTAMP:20260425T174214
CREATED:20240626T182436Z
LAST-MODIFIED:20240805T204816Z
UID:10000005-1727467200-1727481540@www.burgkeller-bar.de
SUMMARY:LIVE: Austrix 2.0 (Austro Pop)
DESCRIPTION:Austrix 2.0 ist die ultimative Austro Pop Sensation! Wo Leidenschaft auf Musik trifft\, begeistern die talentierten Musiker garantiert mit bester Stimmung und authentischen Interpretationen. \nAndreas Hausmann\, der charismatische Sänger und echte Burghauser\, hat viele unvergessliche Stunden im legendären Piffer verbracht. Zusammen mit Robert Zunhammer\, Tobias Daxenberger und Lena Zunhammer bringt die Band Hits von Seiler & Speer\, Wanda\, Pizzera & Jaus sowie vielen anderen direkt zu Euch. \nDie Chiemgauer Band bietet einen unvergesslichen Abend für alle Fans von Austro Pop und diejenigen\, die es noch werden wollen! Wir freuen uns auf Euch! \nEinlass: ab 20.00 Uhr\nEintritt: frei\, Hutspenden erwünscht
URL:https://www.burgkeller-bar.de/event/live-austria-2-0-die-austro-pop-sensation-burgkeller-bar-burghausen/
LOCATION:Burgkellerbar
ATTACH;FMTTYPE=image/jpeg:https://www.burgkeller-bar.de/wp-content/uploads/2024/06/IMG_6690.jpg
ORGANIZER;CN="Burgkeller-Bar UG (haftungsbeschr%C3%A4nkt)":MAILTO:info@burgkeller-bar.de
END:VEVENT
END:VCALENDAR