BEGIN:VCALENDAR
VERSION:2.0
PRODID:-//Burgkeller-Bar Burghausen - ECPv6.15.15//NONSGML v1.0//EN
CALSCALE:GREGORIAN
METHOD:PUBLISH
X-WR-CALNAME:Burgkeller-Bar Burghausen
X-ORIGINAL-URL:https://www.burgkeller-bar.de
X-WR-CALDESC:Veranstaltungen für Burgkeller-Bar Burghausen
REFRESH-INTERVAL;VALUE=DURATION:PT1H
X-Robots-Tag:noindex
X-PUBLISHED-TTL:PT1H
BEGIN:VTIMEZONE
TZID:Europe/Berlin
BEGIN:DAYLIGHT
TZOFFSETFROM:+0100
TZOFFSETTO:+0200
TZNAME:CEST
DTSTART:20230326T010000
END:DAYLIGHT
BEGIN:STANDARD
TZOFFSETFROM:+0200
TZOFFSETTO:+0100
TZNAME:CET
DTSTART:20231029T010000
END:STANDARD
BEGIN:DAYLIGHT
TZOFFSETFROM:+0100
TZOFFSETTO:+0200
TZNAME:CEST
DTSTART:20240331T010000
END:DAYLIGHT
BEGIN:STANDARD
TZOFFSETFROM:+0200
TZOFFSETTO:+0100
TZNAME:CET
DTSTART:20241027T010000
END:STANDARD
BEGIN:DAYLIGHT
TZOFFSETFROM:+0100
TZOFFSETTO:+0200
TZNAME:CEST
DTSTART:20250330T010000
END:DAYLIGHT
BEGIN:STANDARD
TZOFFSETFROM:+0200
TZOFFSETTO:+0100
TZNAME:CET
DTSTART:20251026T010000
END:STANDARD
END:VTIMEZONE
BEGIN:VEVENT
DTSTART;TZID=Europe/Berlin:20241114T190000
DTEND;TZID=Europe/Berlin:20241114T233000
DTSTAMP:20260426T023015
CREATED:20241023T055632Z
LAST-MODIFIED:20241023T062523Z
UID:10000029-1731610800-1731627000@www.burgkeller-bar.de
SUMMARY:LIVE: Dane Diredare (Singer- & Songwriter)
DESCRIPTION:An diesem Abend wird es besonders gemütlich\, denn Dane Diredare wechselt die Seiten – von hinter der Theke vor die Theke und bringt seine Gitarre mit! Unser Singer-Songwriter aus dem Team sorgt im Gastraum für ein intimes Konzert voller persönlicher Songs und handgemachter Musik. Freut euch auf eine feine Auswahl an Eigenkompositionen\, die euch berühren und begeistern werden. Lasst euch dieses besondere Heimspiel nicht entgehen! \nEinlass: 19:00 Uhr\nBeginn: 20:00 Uhr\nEintritt: Hutspenden erwünscht
URL:https://www.burgkeller-bar.de/event/live-dane-diredare-singer-songwriter/
LOCATION:Burgkellerbar
ATTACH;FMTTYPE=image/jpeg:https://www.burgkeller-bar.de/wp-content/uploads/2024/10/F20AA636-6B1F-4C7B-9D90-C7D9993C843E.jpeg
END:VEVENT
END:VCALENDAR