BEGIN:VCALENDAR
VERSION:2.0
PRODID:-//Burgkeller-Bar Burghausen - ECPv6.15.15//NONSGML v1.0//EN
CALSCALE:GREGORIAN
METHOD:PUBLISH
X-ORIGINAL-URL:https://www.burgkeller-bar.de
X-WR-CALDESC:Veranstaltungen für Burgkeller-Bar Burghausen
REFRESH-INTERVAL;VALUE=DURATION:PT1H
X-Robots-Tag:noindex
X-PUBLISHED-TTL:PT1H
BEGIN:VTIMEZONE
TZID:Europe/Berlin
BEGIN:DAYLIGHT
TZOFFSETFROM:+0100
TZOFFSETTO:+0200
TZNAME:CEST
DTSTART:20230326T010000
END:DAYLIGHT
BEGIN:STANDARD
TZOFFSETFROM:+0200
TZOFFSETTO:+0100
TZNAME:CET
DTSTART:20231029T010000
END:STANDARD
BEGIN:DAYLIGHT
TZOFFSETFROM:+0100
TZOFFSETTO:+0200
TZNAME:CEST
DTSTART:20240331T010000
END:DAYLIGHT
BEGIN:STANDARD
TZOFFSETFROM:+0200
TZOFFSETTO:+0100
TZNAME:CET
DTSTART:20241027T010000
END:STANDARD
BEGIN:DAYLIGHT
TZOFFSETFROM:+0100
TZOFFSETTO:+0200
TZNAME:CEST
DTSTART:20250330T010000
END:DAYLIGHT
BEGIN:STANDARD
TZOFFSETFROM:+0200
TZOFFSETTO:+0100
TZNAME:CET
DTSTART:20251026T010000
END:STANDARD
END:VTIMEZONE
BEGIN:VEVENT
DTSTART;TZID=Europe/Berlin:20241108T200000
DTEND;TZID=Europe/Berlin:20241108T235900
DTSTAMP:20260425T235547
CREATED:20240718T104159Z
LAST-MODIFIED:20241015T195922Z
UID:10000022-1731096000-1731110340@www.burgkeller-bar.de
SUMMARY:PARTY: B’Soulnighter (the finest 60s & 70s Soul)
DESCRIPTION:Schwingt euch in die Tanzschuhe! Wenn es heißt “all soul night long”\, sorgen DJ Shoesta\, Herr Fossi und ein Special Guest für den feinsten Sound der 60er & 70er – Soul\, Disco & Boogie – und lassen ihre Vinyl-Platten bei uns im Keller tanzen. Strictly Vinyl! 🕺🎶🥳 Das DJ-Kollektiv Boppin’ & Stompin’ sorgt seit über 16 Jahren für den authentischen Sound der „british subculture“ – und auch dieses Mal werden die kleinen schwarzen Scheiben nicht stillstehen. Auch dieses Mal geben sie uns im Burgkeller die Ehre – wir sehen uns auf der Tanzfläche! \nEinlass: ab 20 Uhr\nBeginn: ab 21 Uhr
URL:https://www.burgkeller-bar.de/event/party-dj-disco-very/
LOCATION:Burgkellerbar
ATTACH;FMTTYPE=image/jpeg:https://www.burgkeller-bar.de/wp-content/uploads/2024/07/photo-output-1.jpeg
ORGANIZER;CN="Burgkeller-Bar UG (haftungsbeschr%C3%A4nkt)":MAILTO:info@burgkeller-bar.de
END:VEVENT
END:VCALENDAR