BEGIN:VCALENDAR
VERSION:2.0
PRODID:-//Burgkeller-Bar Burghausen - ECPv6.15.15//NONSGML v1.0//EN
CALSCALE:GREGORIAN
METHOD:PUBLISH
X-ORIGINAL-URL:https://www.burgkeller-bar.de
X-WR-CALDESC:Veranstaltungen für Burgkeller-Bar Burghausen
REFRESH-INTERVAL;VALUE=DURATION:PT1H
X-Robots-Tag:noindex
X-PUBLISHED-TTL:PT1H
BEGIN:VTIMEZONE
TZID:Europe/Berlin
BEGIN:DAYLIGHT
TZOFFSETFROM:+0100
TZOFFSETTO:+0200
TZNAME:CEST
DTSTART:20230326T010000
END:DAYLIGHT
BEGIN:STANDARD
TZOFFSETFROM:+0200
TZOFFSETTO:+0100
TZNAME:CET
DTSTART:20231029T010000
END:STANDARD
BEGIN:DAYLIGHT
TZOFFSETFROM:+0100
TZOFFSETTO:+0200
TZNAME:CEST
DTSTART:20240331T010000
END:DAYLIGHT
BEGIN:STANDARD
TZOFFSETFROM:+0200
TZOFFSETTO:+0100
TZNAME:CET
DTSTART:20241027T010000
END:STANDARD
BEGIN:DAYLIGHT
TZOFFSETFROM:+0100
TZOFFSETTO:+0200
TZNAME:CEST
DTSTART:20250330T010000
END:DAYLIGHT
BEGIN:STANDARD
TZOFFSETFROM:+0200
TZOFFSETTO:+0100
TZNAME:CET
DTSTART:20251026T010000
END:STANDARD
END:VTIMEZONE
BEGIN:VEVENT
DTSTART;TZID=Europe/Berlin:20241102T200000
DTEND;TZID=Europe/Berlin:20241102T235900
DTSTAMP:20260425T205230
CREATED:20240626T191825Z
LAST-MODIFIED:20241015T174537Z
UID:10000012-1730577600-1730591940@www.burgkeller-bar.de
SUMMARY:LIVE: Wanted Wolf & DJ Thirsty Mo (Garage & Rhytm'n Blues)
DESCRIPTION:Wanted Wolf\, die einzigartige One-Man-Band aus dem Landkreis Altötting\, bringt handgemachte Musik in den legendären Konzertkeller der Burgkeller-Bar! Mit seiner fesselnden Mischung aus Garage\, Country und Blues liefert er ein Klangerlebnis\, das euch garantiert mitreißen wird. \nHört gleich mal rein: www.wantedwolf.bandcamp.com \nUnd danach? Dann geht’s richtig rund: DJ Thirsty Mo legt auf und ihr könnt zu Garage-Beat\, Rhythm’n’Blues\, Rockabilly und Blues das Tanzbein schwingen. Kommt vorbei und genießt einen Abend voller authentischer Musik und guter Laune. \nEinlass: ab 20.00 Uhr\nEintritt: Hutspenden erwünscht
URL:https://www.burgkeller-bar.de/event/live-wanted-wolf/
LOCATION:Burgkellerbar
ATTACH;FMTTYPE=image/jpeg:https://www.burgkeller-bar.de/wp-content/uploads/2024/06/photo-output-1-scaled.jpeg
ORGANIZER;CN="Burgkeller-Bar UG (haftungsbeschr%C3%A4nkt)":MAILTO:info@burgkeller-bar.de
END:VEVENT
END:VCALENDAR